BEGIN:VCALENDAR
VERSION:2.0
PRODID:-//Peaceful Schools Productions - ECPv6.15.20//NONSGML v1.0//EN
CALSCALE:GREGORIAN
METHOD:PUBLISH
X-WR-CALNAME:Peaceful Schools Productions
X-ORIGINAL-URL:https://productions.peacefulschools.com
X-WR-CALDESC:Events for Peaceful Schools Productions
REFRESH-INTERVAL;VALUE=DURATION:PT1H
X-Robots-Tag:noindex
X-PUBLISHED-TTL:PT1H
BEGIN:VTIMEZONE
TZID:America/New_York
BEGIN:DAYLIGHT
TZOFFSETFROM:-0500
TZOFFSETTO:-0400
TZNAME:EDT
DTSTART:20170312T070000
END:DAYLIGHT
BEGIN:STANDARD
TZOFFSETFROM:-0400
TZOFFSETTO:-0500
TZNAME:EST
DTSTART:20171105T060000
END:STANDARD
BEGIN:DAYLIGHT
TZOFFSETFROM:-0500
TZOFFSETTO:-0400
TZNAME:EDT
DTSTART:20180311T070000
END:DAYLIGHT
BEGIN:STANDARD
TZOFFSETFROM:-0400
TZOFFSETTO:-0500
TZNAME:EST
DTSTART:20181104T060000
END:STANDARD
BEGIN:DAYLIGHT
TZOFFSETFROM:-0500
TZOFFSETTO:-0400
TZNAME:EDT
DTSTART:20190310T070000
END:DAYLIGHT
BEGIN:STANDARD
TZOFFSETFROM:-0400
TZOFFSETTO:-0500
TZNAME:EST
DTSTART:20191103T060000
END:STANDARD
BEGIN:DAYLIGHT
TZOFFSETFROM:-0500
TZOFFSETTO:-0400
TZNAME:EDT
DTSTART:20200308T070000
END:DAYLIGHT
BEGIN:STANDARD
TZOFFSETFROM:-0400
TZOFFSETTO:-0500
TZNAME:EST
DTSTART:20201101T060000
END:STANDARD
END:VTIMEZONE
BEGIN:VEVENT
DTSTART;VALUE=DATE:20190426
DTEND;VALUE=DATE:20190427
DTSTAMP:20260423T164427
CREATED:20190313T180508Z
LAST-MODIFIED:20190313T180508Z
UID:769-1556236800-1556323199@productions.peacefulschools.com
SUMMARY:Weird! The Musical School Performance
DESCRIPTION:
URL:https://productions.peacefulschools.com/event/weird-the-musical-school-performance-3/
LOCATION:Donlin Drive Elementary\, 299 Donlin Dr\, Liverpool\, NY\, 13088\, United States
CATEGORIES:Weird!
END:VEVENT
BEGIN:VEVENT
DTSTART;VALUE=DATE:20190406
DTEND;VALUE=DATE:20190407
DTSTAMP:20260423T164427
CREATED:20190311T140651Z
LAST-MODIFIED:20190311T142052Z
UID:751-1554508800-1554595199@productions.peacefulschools.com
SUMMARY:Weird! The Musical School Performance
DESCRIPTION:
URL:https://productions.peacefulschools.com/event/weird-the-musical-performance-7/
LOCATION:PS 198 The International Preparatory School\, 110 14th St\, Buffalo\, New York\, 14213\, United States
CATEGORIES:Weird!
END:VEVENT
BEGIN:VEVENT
DTSTART;VALUE=DATE:20190405
DTEND;VALUE=DATE:20190406
DTSTAMP:20260423T164427
CREATED:20190311T140303Z
LAST-MODIFIED:20190311T142112Z
UID:749-1554422400-1554508799@productions.peacefulschools.com
SUMMARY:Weird! The Musical School Performance
DESCRIPTION:
URL:https://productions.peacefulschools.com/event/weird-the-musical/
LOCATION:P.S. 27 Hillery Park Academy\, 73 Pawnee Pkwy\, Buffalo\, NY\, 14210\, United States
CATEGORIES:Weird!
END:VEVENT
BEGIN:VEVENT
DTSTART;VALUE=DATE:20190405
DTEND;VALUE=DATE:20190406
DTSTAMP:20260423T164427
CREATED:20190311T140155Z
LAST-MODIFIED:20190311T142129Z
UID:747-1554422400-1554508799@productions.peacefulschools.com
SUMMARY:Weird! The Musical School Performance
DESCRIPTION:
URL:https://productions.peacefulschools.com/event/weird-the-musical-performance-6/
LOCATION:Buffalo Elementary School of Technology #6\, 4414 S Division St\, Buffalo\, NY\, 14204\, United States
CATEGORIES:Weird!
END:VEVENT
BEGIN:VEVENT
DTSTART;VALUE=DATE:20190329
DTEND;VALUE=DATE:20190330
DTSTAMP:20260423T164427
CREATED:20190313T180219Z
LAST-MODIFIED:20190313T180219Z
UID:766-1553817600-1553903999@productions.peacefulschools.com
SUMMARY:Weird! The Musical School Performance
DESCRIPTION:
URL:https://productions.peacefulschools.com/event/weird-the-musical-school-performance-2/
LOCATION:Chestnut Hill Elementary\, 200 Saslon Park Dr\, Liverpool\, NY\, 13088\, United States
CATEGORIES:Weird!
END:VEVENT
BEGIN:VEVENT
DTSTART;VALUE=DATE:20190329
DTEND;VALUE=DATE:20190330
DTSTAMP:20260423T164427
CREATED:20190130T192617Z
LAST-MODIFIED:20190130T192617Z
UID:720-1553817600-1553903999@productions.peacefulschools.com
SUMMARY:Rise Up! Performance
DESCRIPTION:
URL:https://productions.peacefulschools.com/event/rise-up-performance-25/
LOCATION:PS 33 Bilingual Center\, 157 Elk St\, Buffalo\, NY\, 14210\, United States
CATEGORIES:Rise Up!
END:VEVENT
BEGIN:VEVENT
DTSTART;VALUE=DATE:20190308
DTEND;VALUE=DATE:20190309
DTSTAMP:20260423T164427
CREATED:20190130T192244Z
LAST-MODIFIED:20190130T192244Z
UID:718-1552003200-1552089599@productions.peacefulschools.com
SUMMARY:Rise Up! Performance
DESCRIPTION:
URL:https://productions.peacefulschools.com/event/rise-up-performance-24/
LOCATION:PS 93 Southside Elementary\, 430 Southside Pkwy\,\, Buffalo\, 14210\, United States
CATEGORIES:Rise Up!
END:VEVENT
BEGIN:VEVENT
DTSTART;VALUE=DATE:20190301
DTEND;VALUE=DATE:20190302
DTSTAMP:20260423T164427
CREATED:20190130T192119Z
LAST-MODIFIED:20190130T192119Z
UID:716-1551398400-1551484799@productions.peacefulschools.com
SUMMARY:Rise Up! Performance
DESCRIPTION:
URL:https://productions.peacefulschools.com/event/rise-up-performance-23/
LOCATION:P.S. 27 Hillery Park Academy\, 73 Pawnee Pkwy\, Buffalo\, NY\, 14210\, United States
CATEGORIES:Rise Up!
END:VEVENT
BEGIN:VEVENT
DTSTART;VALUE=DATE:20190301
DTEND;VALUE=DATE:20190302
DTSTAMP:20260423T164427
CREATED:20190130T190327Z
LAST-MODIFIED:20190130T190327Z
UID:714-1551398400-1551484799@productions.peacefulschools.com
SUMMARY:Rise Up! Performance
DESCRIPTION:
URL:https://productions.peacefulschools.com/event/rise-up-performance-22/
LOCATION:Delaware Elementary\, 900 S Geddes St\, Syracuse\, NY\, 13204\, United States
CATEGORIES:Rise Up!
END:VEVENT
BEGIN:VEVENT
DTSTART;VALUE=DATE:20190215
DTEND;VALUE=DATE:20190216
DTSTAMP:20260423T164427
CREATED:20190130T194505Z
LAST-MODIFIED:20190130T194505Z
UID:735-1550188800-1550275199@productions.peacefulschools.com
SUMMARY:Rise Up! Performance
DESCRIPTION:
URL:https://productions.peacefulschools.com/event/rise-up-performance-32/
LOCATION:PS 18 Dr. Antonia Pantoja Community School of Academic Excellence\, 750 West Ave\, Buffalo\, NY\, 14213\, United States
CATEGORIES:Rise Up!
END:VEVENT
BEGIN:VEVENT
DTSTART;VALUE=DATE:20190208
DTEND;VALUE=DATE:20190209
DTSTAMP:20260423T164427
CREATED:20190130T185641Z
LAST-MODIFIED:20190130T185641Z
UID:709-1549584000-1549670399@productions.peacefulschools.com
SUMMARY:Rise Up! Performance
DESCRIPTION:
URL:https://productions.peacefulschools.com/event/rise-up-performance-20/
LOCATION:Delaware Elementary\, 900 S Geddes St\, Syracuse\, NY\, 13204\, United States
CATEGORIES:Rise Up!
END:VEVENT
BEGIN:VEVENT
DTSTART;VALUE=DATE:20190201
DTEND;VALUE=DATE:20190202
DTSTAMP:20260423T164427
CREATED:20190130T174819Z
LAST-MODIFIED:20190130T174819Z
UID:706-1548979200-1549065599@productions.peacefulschools.com
SUMMARY:Rise Up! Performance
DESCRIPTION:
URL:https://productions.peacefulschools.com/event/rise-up-performance-19/
LOCATION:PS 89 Dr. Lydia T. Wright School of Excellence\, 106 Appenheimer Ave\, Buffalo\, NY\, 14214\, United States
CATEGORIES:Rise Up!
END:VEVENT
BEGIN:VEVENT
DTSTART;VALUE=DATE:20190201
DTEND;VALUE=DATE:20190202
DTSTAMP:20260423T164427
CREATED:20181127T151616Z
LAST-MODIFIED:20190311T142203Z
UID:659-1548979200-1549065599@productions.peacefulschools.com
SUMMARY:Weird! The Musical School Performance
DESCRIPTION:
URL:https://productions.peacefulschools.com/event/weird-the-musical-performance/
LOCATION:Harry M Fisher Elementary School\, 10 Fisher Ave\, Mohawk\, NY\, 13407\, United States
CATEGORIES:Weird!
END:VEVENT
BEGIN:VEVENT
DTSTART;TZID=America/New_York:20190120T150000
DTEND;TZID=America/New_York:20190120T163000
DTSTAMP:20260423T164427
CREATED:20190103T175041Z
LAST-MODIFIED:20190103T180001Z
UID:675-1547996400-1548001800@productions.peacefulschools.com
SUMMARY:Weird! The Musical Public Performance
DESCRIPTION:
URL:https://productions.peacefulschools.com/event/weird-public-performance-2/
LOCATION:The Oncenter Carrier Theater\, 411 Montgomery St\, Syracuse\, 13202\, United States
CATEGORIES:Weird!
END:VEVENT
BEGIN:VEVENT
DTSTART;TZID=America/New_York:20190119T193000
DTEND;TZID=America/New_York:20190119T203000
DTSTAMP:20260423T164427
CREATED:20190103T174954Z
LAST-MODIFIED:20190103T175653Z
UID:673-1547926200-1547929800@productions.peacefulschools.com
SUMMARY:Weird! The Musical Public Performance
DESCRIPTION:
URL:https://productions.peacefulschools.com/event/weird-public-performance/
LOCATION:The Oncenter Carrier Theater\, 411 Montgomery St\, Syracuse\, 13202\, United States
CATEGORIES:Weird!
END:VEVENT
BEGIN:VEVENT
DTSTART;TZID=America/New_York:20190119T150000
DTEND;TZID=America/New_York:20190119T163000
DTSTAMP:20260423T164427
CREATED:20190103T174814Z
LAST-MODIFIED:20190103T175147Z
UID:670-1547910000-1547915400@productions.peacefulschools.com
SUMMARY:Weird! The Musical Public Performance
DESCRIPTION:
URL:https://productions.peacefulschools.com/event/weird-the-musical-public-performance/
LOCATION:The Oncenter Carrier Theater\, 411 Montgomery St\, Syracuse\, 13202\, United States
CATEGORIES:Weird!
END:VEVENT
BEGIN:VEVENT
DTSTART;VALUE=DATE:20190111
DTEND;VALUE=DATE:20190112
DTSTAMP:20260423T164427
CREATED:20190130T193651Z
LAST-MODIFIED:20190130T193651Z
UID:727-1547164800-1547251199@productions.peacefulschools.com
SUMMARY:Rise Up! Performance
DESCRIPTION:
URL:https://productions.peacefulschools.com/event/rise-up-performance-28/
LOCATION:Delaware Elementary\, 900 S Geddes St\, Syracuse\, NY\, 13204\, United States
END:VEVENT
BEGIN:VEVENT
DTSTART;VALUE=DATE:20181214
DTEND;VALUE=DATE:20181215
DTSTAMP:20260423T164427
CREATED:20190130T194345Z
LAST-MODIFIED:20190130T194345Z
UID:733-1544745600-1544831999@productions.peacefulschools.com
SUMMARY:Rise Up! Performance
DESCRIPTION:
URL:https://productions.peacefulschools.com/event/rise-up-performance-31/
LOCATION:PS 33 Bilingual Center\, 157 Elk St\, Buffalo\, NY\, 14210\, United States
CATEGORIES:Rise Up!
END:VEVENT
BEGIN:VEVENT
DTSTART;VALUE=DATE:20181207
DTEND;VALUE=DATE:20181208
DTSTAMP:20260423T164427
CREATED:20190130T194254Z
LAST-MODIFIED:20190130T194254Z
UID:731-1544140800-1544227199@productions.peacefulschools.com
SUMMARY:Rise Up! Performance
DESCRIPTION:
URL:https://productions.peacefulschools.com/event/rise-up-performance-30/
LOCATION:P.S. 27 Hillery Park Academy\, 73 Pawnee Pkwy\, Buffalo\, NY\, 14210\, United States
CATEGORIES:Rise Up!
END:VEVENT
BEGIN:VEVENT
DTSTART;VALUE=DATE:20181207
DTEND;VALUE=DATE:20181208
DTSTAMP:20260423T164427
CREATED:20181004T190354Z
LAST-MODIFIED:20190311T142251Z
UID:603-1544140800-1544227199@productions.peacefulschools.com
SUMMARY:Weird! The Musical School Performance
DESCRIPTION:
URL:https://productions.peacefulschools.com/event/weird-the-musical-performance-5/
LOCATION:Dr. King Elementary School\, 416 E Raynor Ave\, Syracuse\, NY\, 13202\, United States
CATEGORIES:Weird!
END:VEVENT
BEGIN:VEVENT
DTSTART;VALUE=DATE:20181130
DTEND;VALUE=DATE:20181201
DTSTAMP:20260423T164427
CREATED:20181004T190118Z
LAST-MODIFIED:20190311T142310Z
UID:600-1543536000-1543622399@productions.peacefulschools.com
SUMMARY:Weird! The Musical School Performance
DESCRIPTION:
URL:https://productions.peacefulschools.com/event/weird-the-musical-performance-4/
LOCATION:H.W. Smith PK-8\, 1130 Salt Springs Rd\, Syracuse\, NY\, 13224\, United States
CATEGORIES:Weird!
END:VEVENT
BEGIN:VEVENT
DTSTART;VALUE=DATE:20181109
DTEND;VALUE=DATE:20181110
DTSTAMP:20260423T164427
CREATED:20190130T194124Z
LAST-MODIFIED:20190130T194124Z
UID:729-1541721600-1541807999@productions.peacefulschools.com
SUMMARY:Rise Up! Performance
DESCRIPTION:
URL:https://productions.peacefulschools.com/event/rise-up-performance-29/
LOCATION:PS 89 Dr. Lydia T. Wright School of Excellence\, 106 Appenheimer Ave\, Buffalo\, NY\, 14214\, United States
CATEGORIES:Rise Up!
END:VEVENT
BEGIN:VEVENT
DTSTART;VALUE=DATE:20181109
DTEND;VALUE=DATE:20181110
DTSTAMP:20260423T164427
CREATED:20180724T164316Z
LAST-MODIFIED:20190311T142330Z
UID:516-1541721600-1541807999@productions.peacefulschools.com
SUMMARY:Weird! The Musical School Performance
DESCRIPTION:
URL:https://productions.peacefulschools.com/event/weird-the-musical-performance-2/
LOCATION:Walberta Park Primary School\, 400 Walberta Rd\, Syracuse\, NY\, 13219\, United States
CATEGORIES:Weird!
END:VEVENT
BEGIN:VEVENT
DTSTART;VALUE=DATE:20181102
DTEND;VALUE=DATE:20181103
DTSTAMP:20260423T164427
CREATED:20181004T185710Z
LAST-MODIFIED:20190311T142341Z
UID:598-1541116800-1541203199@productions.peacefulschools.com
SUMMARY:Weird! The Musical School Performance
DESCRIPTION:
URL:https://productions.peacefulschools.com/event/weird-the-musical-performance-3/
LOCATION:Webster Elementary School\, 500 Wadsworth St.\, Syracuse\, NY\, 13208\, United States
CATEGORIES:Weird!
END:VEVENT
BEGIN:VEVENT
DTSTART;VALUE=DATE:20180525
DTEND;VALUE=DATE:20180526
DTSTAMP:20260423T164427
CREATED:20171211T154955Z
LAST-MODIFIED:20171211T154955Z
UID:366-1527206400-1527292799@productions.peacefulschools.com
SUMMARY:Rise Up! Performance
DESCRIPTION:
URL:https://productions.peacefulschools.com/event/rise-up-performance-7/
LOCATION:Buffalo Elementary School of Technology #6\, 4414 S Division St\, Buffalo\, NY\, 14204\, United States
CATEGORIES:Rise Up!
END:VEVENT
BEGIN:VEVENT
DTSTART;VALUE=DATE:20180523
DTEND;VALUE=DATE:20180524
DTSTAMP:20260423T164427
CREATED:20180412T153246Z
LAST-MODIFIED:20180412T153246Z
UID:456-1527033600-1527119999@productions.peacefulschools.com
SUMMARY:Rise Up! Performance
DESCRIPTION:
URL:https://productions.peacefulschools.com/event/rise-up-performance-15/
LOCATION:P.S. 27 Hillery Park Academy\, 73 Pawnee Pkwy\, Buffalo\, NY\, 14210\, United States
CATEGORIES:Rise Up!
END:VEVENT
BEGIN:VEVENT
DTSTART;VALUE=DATE:20180518
DTEND;VALUE=DATE:20180519
DTSTAMP:20260423T164427
CREATED:20180412T155115Z
LAST-MODIFIED:20180412T155115Z
UID:461-1526601600-1526687999@productions.peacefulschools.com
SUMMARY:Rise Up! Performance
DESCRIPTION:
URL:https://productions.peacefulschools.com/event/rise-up-performance-17/
LOCATION:Porter School Of Technology & Career Exploration\, 512 Emerson Ave\, Syracuse\, NY\, 13204\, United States
CATEGORIES:Rise Up!
END:VEVENT
BEGIN:VEVENT
DTSTART;VALUE=DATE:20180516
DTEND;VALUE=DATE:20180517
DTSTAMP:20260423T164427
CREATED:20180412T152211Z
LAST-MODIFIED:20180412T152405Z
UID:453-1526428800-1526515199@productions.peacefulschools.com
SUMMARY:Rise Up! Performance
DESCRIPTION:
URL:https://productions.peacefulschools.com/event/rise-up-performance-14/
LOCATION:PS 93 Southside Elementary\, 430 Southside Pkwy\,\, Buffalo\, 14210\, United States
CATEGORIES:Rise Up!
END:VEVENT
BEGIN:VEVENT
DTSTART;VALUE=DATE:20180511
DTEND;VALUE=DATE:20180512
DTSTAMP:20260423T164427
CREATED:20170726T154543Z
LAST-MODIFIED:20170726T154543Z
UID:332-1525996800-1526083199@productions.peacefulschools.com
SUMMARY:Rise Up! Performance
DESCRIPTION:
URL:https://productions.peacefulschools.com/event/rise-up-performance-3/
LOCATION:Webster Elementary School\, 500 Wadsworth St.\, Syracuse\, NY\, 13208\, United States
CATEGORIES:Rise Up!
END:VEVENT
BEGIN:VEVENT
DTSTART;VALUE=DATE:20180509
DTEND;VALUE=DATE:20180510
DTSTAMP:20260423T164427
CREATED:20180129T174232Z
LAST-MODIFIED:20180129T174232Z
UID:391-1525824000-1525910399@productions.peacefulschools.com
SUMMARY:Rise Up! Performance
DESCRIPTION:
URL:https://productions.peacefulschools.com/event/rise-up-performance-10/
LOCATION:PS 18 Dr. Antonia Pantoja Community School of Academic Excellence\, 750 West Ave\, Buffalo\, NY\, 14213\, United States
CATEGORIES:Rise Up!
END:VEVENT
END:VCALENDAR