BEGIN:VCALENDAR
VERSION:2.0
PRODID:-//Peaceful Schools Productions - ECPv6.15.20//NONSGML v1.0//EN
CALSCALE:GREGORIAN
METHOD:PUBLISH
X-WR-CALNAME:Peaceful Schools Productions
X-ORIGINAL-URL:https://productions.peacefulschools.com
X-WR-CALDESC:Events for Peaceful Schools Productions
REFRESH-INTERVAL;VALUE=DURATION:PT1H
X-Robots-Tag:noindex
X-PUBLISHED-TTL:PT1H
BEGIN:VTIMEZONE
TZID:America/New_York
BEGIN:DAYLIGHT
TZOFFSETFROM:-0500
TZOFFSETTO:-0400
TZNAME:EDT
DTSTART:20160313T070000
END:DAYLIGHT
BEGIN:STANDARD
TZOFFSETFROM:-0400
TZOFFSETTO:-0500
TZNAME:EST
DTSTART:20161106T060000
END:STANDARD
BEGIN:DAYLIGHT
TZOFFSETFROM:-0500
TZOFFSETTO:-0400
TZNAME:EDT
DTSTART:20170312T070000
END:DAYLIGHT
BEGIN:STANDARD
TZOFFSETFROM:-0400
TZOFFSETTO:-0500
TZNAME:EST
DTSTART:20171105T060000
END:STANDARD
BEGIN:DAYLIGHT
TZOFFSETFROM:-0500
TZOFFSETTO:-0400
TZNAME:EDT
DTSTART:20180311T070000
END:DAYLIGHT
BEGIN:STANDARD
TZOFFSETFROM:-0400
TZOFFSETTO:-0500
TZNAME:EST
DTSTART:20181104T060000
END:STANDARD
BEGIN:DAYLIGHT
TZOFFSETFROM:-0500
TZOFFSETTO:-0400
TZNAME:EDT
DTSTART:20190310T070000
END:DAYLIGHT
BEGIN:STANDARD
TZOFFSETFROM:-0400
TZOFFSETTO:-0500
TZNAME:EST
DTSTART:20191103T060000
END:STANDARD
END:VTIMEZONE
BEGIN:VEVENT
DTSTART;VALUE=DATE:20181130
DTEND;VALUE=DATE:20181201
DTSTAMP:20260423T193650
CREATED:20181004T190118Z
LAST-MODIFIED:20190311T142310Z
UID:600-1543536000-1543622399@productions.peacefulschools.com
SUMMARY:Weird! The Musical School Performance
DESCRIPTION:
URL:https://productions.peacefulschools.com/event/weird-the-musical-performance-4/
LOCATION:H.W. Smith PK-8\, 1130 Salt Springs Rd\, Syracuse\, NY\, 13224\, United States
CATEGORIES:Weird!
END:VEVENT
BEGIN:VEVENT
DTSTART;VALUE=DATE:20181109
DTEND;VALUE=DATE:20181110
DTSTAMP:20260423T193650
CREATED:20190130T194124Z
LAST-MODIFIED:20190130T194124Z
UID:729-1541721600-1541807999@productions.peacefulschools.com
SUMMARY:Rise Up! Performance
DESCRIPTION:
URL:https://productions.peacefulschools.com/event/rise-up-performance-29/
LOCATION:PS 89 Dr. Lydia T. Wright School of Excellence\, 106 Appenheimer Ave\, Buffalo\, NY\, 14214\, United States
CATEGORIES:Rise Up!
END:VEVENT
BEGIN:VEVENT
DTSTART;VALUE=DATE:20181109
DTEND;VALUE=DATE:20181110
DTSTAMP:20260423T193650
CREATED:20180724T164316Z
LAST-MODIFIED:20190311T142330Z
UID:516-1541721600-1541807999@productions.peacefulschools.com
SUMMARY:Weird! The Musical School Performance
DESCRIPTION:
URL:https://productions.peacefulschools.com/event/weird-the-musical-performance-2/
LOCATION:Walberta Park Primary School\, 400 Walberta Rd\, Syracuse\, NY\, 13219\, United States
CATEGORIES:Weird!
END:VEVENT
BEGIN:VEVENT
DTSTART;VALUE=DATE:20181102
DTEND;VALUE=DATE:20181103
DTSTAMP:20260423T193650
CREATED:20181004T185710Z
LAST-MODIFIED:20190311T142341Z
UID:598-1541116800-1541203199@productions.peacefulschools.com
SUMMARY:Weird! The Musical School Performance
DESCRIPTION:
URL:https://productions.peacefulschools.com/event/weird-the-musical-performance-3/
LOCATION:Webster Elementary School\, 500 Wadsworth St.\, Syracuse\, NY\, 13208\, United States
CATEGORIES:Weird!
END:VEVENT
BEGIN:VEVENT
DTSTART;VALUE=DATE:20180525
DTEND;VALUE=DATE:20180526
DTSTAMP:20260423T193650
CREATED:20171211T154955Z
LAST-MODIFIED:20171211T154955Z
UID:366-1527206400-1527292799@productions.peacefulschools.com
SUMMARY:Rise Up! Performance
DESCRIPTION:
URL:https://productions.peacefulschools.com/event/rise-up-performance-7/
LOCATION:Buffalo Elementary School of Technology #6\, 4414 S Division St\, Buffalo\, NY\, 14204\, United States
CATEGORIES:Rise Up!
END:VEVENT
BEGIN:VEVENT
DTSTART;VALUE=DATE:20180523
DTEND;VALUE=DATE:20180524
DTSTAMP:20260423T193650
CREATED:20180412T153246Z
LAST-MODIFIED:20180412T153246Z
UID:456-1527033600-1527119999@productions.peacefulschools.com
SUMMARY:Rise Up! Performance
DESCRIPTION:
URL:https://productions.peacefulschools.com/event/rise-up-performance-15/
LOCATION:P.S. 27 Hillery Park Academy\, 73 Pawnee Pkwy\, Buffalo\, NY\, 14210\, United States
CATEGORIES:Rise Up!
END:VEVENT
BEGIN:VEVENT
DTSTART;VALUE=DATE:20180518
DTEND;VALUE=DATE:20180519
DTSTAMP:20260423T193650
CREATED:20180412T155115Z
LAST-MODIFIED:20180412T155115Z
UID:461-1526601600-1526687999@productions.peacefulschools.com
SUMMARY:Rise Up! Performance
DESCRIPTION:
URL:https://productions.peacefulschools.com/event/rise-up-performance-17/
LOCATION:Porter School Of Technology & Career Exploration\, 512 Emerson Ave\, Syracuse\, NY\, 13204\, United States
CATEGORIES:Rise Up!
END:VEVENT
BEGIN:VEVENT
DTSTART;VALUE=DATE:20180516
DTEND;VALUE=DATE:20180517
DTSTAMP:20260423T193650
CREATED:20180412T152211Z
LAST-MODIFIED:20180412T152405Z
UID:453-1526428800-1526515199@productions.peacefulschools.com
SUMMARY:Rise Up! Performance
DESCRIPTION:
URL:https://productions.peacefulschools.com/event/rise-up-performance-14/
LOCATION:PS 93 Southside Elementary\, 430 Southside Pkwy\,\, Buffalo\, 14210\, United States
CATEGORIES:Rise Up!
END:VEVENT
BEGIN:VEVENT
DTSTART;VALUE=DATE:20180511
DTEND;VALUE=DATE:20180512
DTSTAMP:20260423T193650
CREATED:20170726T154543Z
LAST-MODIFIED:20170726T154543Z
UID:332-1525996800-1526083199@productions.peacefulschools.com
SUMMARY:Rise Up! Performance
DESCRIPTION:
URL:https://productions.peacefulschools.com/event/rise-up-performance-3/
LOCATION:Webster Elementary School\, 500 Wadsworth St.\, Syracuse\, NY\, 13208\, United States
CATEGORIES:Rise Up!
END:VEVENT
BEGIN:VEVENT
DTSTART;VALUE=DATE:20180509
DTEND;VALUE=DATE:20180510
DTSTAMP:20260423T193650
CREATED:20180129T174232Z
LAST-MODIFIED:20180129T174232Z
UID:391-1525824000-1525910399@productions.peacefulschools.com
SUMMARY:Rise Up! Performance
DESCRIPTION:
URL:https://productions.peacefulschools.com/event/rise-up-performance-10/
LOCATION:PS 18 Dr. Antonia Pantoja Community School of Academic Excellence\, 750 West Ave\, Buffalo\, NY\, 14213\, United States
CATEGORIES:Rise Up!
END:VEVENT
BEGIN:VEVENT
DTSTART;VALUE=DATE:20180504
DTEND;VALUE=DATE:20180505
DTSTAMP:20260423T193650
CREATED:20180131T145634Z
LAST-MODIFIED:20180131T145634Z
UID:397-1525392000-1525478399@productions.peacefulschools.com
SUMMARY:Rise Up! Performance
DESCRIPTION:
URL:https://productions.peacefulschools.com/event/rise-up-performance-12/
LOCATION:Salem Hyde  Elementary School\, 450 Durston Ave\, Syracuse\, NY\, 13203\, United States
CATEGORIES:Rise Up!
END:VEVENT
BEGIN:VEVENT
DTSTART;VALUE=DATE:20180418
DTEND;VALUE=DATE:20180419
DTSTAMP:20260423T193650
CREATED:20180416T142333Z
LAST-MODIFIED:20180416T142333Z
UID:472-1524009600-1524095999@productions.peacefulschools.com
SUMMARY:Rise Up! Performance
DESCRIPTION:
URL:https://productions.peacefulschools.com/event/rise-up-performance-18/
LOCATION:Queen of Heaven School\, 839 Mill Rd\, West Seneca\, Buffalo\, NY\, 14224\, United States
CATEGORIES:Rise Up!
END:VEVENT
BEGIN:VEVENT
DTSTART;VALUE=DATE:20180406
DTEND;VALUE=DATE:20180407
DTSTAMP:20260423T193650
CREATED:20180412T153621Z
LAST-MODIFIED:20180412T153621Z
UID:459-1522972800-1523059199@productions.peacefulschools.com
SUMMARY:Rise Up! Performance
DESCRIPTION:
URL:https://productions.peacefulschools.com/event/rise-up-performance-16/
LOCATION:LeMoyne Elementary School\, 1528 Lemoyne Ave\, Syracuse\, NY\, 13208\, United States
CATEGORIES:Rise Up!
END:VEVENT
BEGIN:VEVENT
DTSTART;VALUE=DATE:20180316
DTEND;VALUE=DATE:20180317
DTSTAMP:20260423T193650
CREATED:20171211T154835Z
LAST-MODIFIED:20171211T154835Z
UID:364-1521158400-1521244799@productions.peacefulschools.com
SUMMARY:Rise Up! Performance
DESCRIPTION:
URL:https://productions.peacefulschools.com/event/rise-up-performance-6/
LOCATION:Buffalo Elementary School of Technology #6\, 4414 S Division St\, Buffalo\, NY\, 14204\, United States
CATEGORIES:Rise Up!
END:VEVENT
BEGIN:VEVENT
DTSTART;VALUE=DATE:20180314
DTEND;VALUE=DATE:20180315
DTSTAMP:20260423T193650
CREATED:20180412T152111Z
LAST-MODIFIED:20180412T152428Z
UID:449-1520985600-1521071999@productions.peacefulschools.com
SUMMARY:Rise Up! Performance
DESCRIPTION:
URL:https://productions.peacefulschools.com/event/rise-up-performance-13/
LOCATION:PS 93 Southside Elementary\, 430 Southside Pkwy\,\, Buffalo\, 14210\, United States
CATEGORIES:Rise Up!
END:VEVENT
BEGIN:VEVENT
DTSTART;VALUE=DATE:20180309
DTEND;VALUE=DATE:20180310
DTSTAMP:20260423T193650
CREATED:20180129T151421Z
LAST-MODIFIED:20180129T165113Z
UID:373-1520553600-1520639999@productions.peacefulschools.com
SUMMARY:Rise Up! Performance
DESCRIPTION:
URL:https://productions.peacefulschools.com/event/rise-up-performance-8/
LOCATION:LeMoyne Elementary School\, 1528 Lemoyne Ave\, Syracuse\, NY\, 13208\, United States
CATEGORIES:Rise Up!
END:VEVENT
BEGIN:VEVENT
DTSTART;VALUE=DATE:20180307
DTEND;VALUE=DATE:20180308
DTSTAMP:20260423T193650
CREATED:20180129T174152Z
LAST-MODIFIED:20180129T174152Z
UID:386-1520380800-1520467199@productions.peacefulschools.com
SUMMARY:Rise Up! Performance
DESCRIPTION:
URL:https://productions.peacefulschools.com/event/rise-up-performance-9/
LOCATION:PS 18 Dr. Antonia Pantoja Community School of Academic Excellence\, 750 West Ave\, Buffalo\, NY\, 14213\, United States
CATEGORIES:Rise Up!
END:VEVENT
BEGIN:VEVENT
DTSTART;VALUE=DATE:20180301
DTEND;VALUE=DATE:20180302
DTSTAMP:20260423T193650
CREATED:20180129T174346Z
LAST-MODIFIED:20180129T174346Z
UID:393-1519862400-1519948799@productions.peacefulschools.com
SUMMARY:Rise Up! Performance
DESCRIPTION:
URL:https://productions.peacefulschools.com/event/rise-up-performance-11/
LOCATION:Webster Elementary School\, 500 Wadsworth St.\, Syracuse\, NY\, 13208\, United States
CATEGORIES:Rise Up!
END:VEVENT
BEGIN:VEVENT
DTSTART;VALUE=DATE:20180119
DTEND;VALUE=DATE:20180120
DTSTAMP:20260423T193650
CREATED:20171211T154752Z
LAST-MODIFIED:20171211T154752Z
UID:362-1516320000-1516406399@productions.peacefulschools.com
SUMMARY:Rise Up! Performance
DESCRIPTION:
URL:https://productions.peacefulschools.com/event/rise-up-performance-5/
LOCATION:Buffalo Elementary School of Technology #6\, 4414 S Division St\, Buffalo\, NY\, 14204\, United States
CATEGORIES:Rise Up!
END:VEVENT
BEGIN:VEVENT
DTSTART;VALUE=DATE:20180112
DTEND;VALUE=DATE:20180113
DTSTAMP:20260423T193650
CREATED:20171201T155347Z
LAST-MODIFIED:20171201T155347Z
UID:357-1515715200-1515801599@productions.peacefulschools.com
SUMMARY:Rise Up! Performance
DESCRIPTION:
URL:https://productions.peacefulschools.com/event/rise-up-performance-4/
LOCATION:Salem Hyde  Elementary School\, 450 Durston Ave\, Syracuse\, NY\, 13203\, United States
CATEGORIES:Rise Up!
END:VEVENT
BEGIN:VEVENT
DTSTART;VALUE=DATE:20180105
DTEND;VALUE=DATE:20180106
DTSTAMP:20260423T193650
CREATED:20170726T153646Z
LAST-MODIFIED:20170726T153840Z
UID:329-1515110400-1515196799@productions.peacefulschools.com
SUMMARY:Rise Up! Performance
DESCRIPTION:
URL:https://productions.peacefulschools.com/event/rise-up-performance-2/
LOCATION:Webster Elementary School\, 500 Wadsworth St.\, Syracuse\, NY\, 13208\, United States
CATEGORIES:Rise Up!
END:VEVENT
BEGIN:VEVENT
DTSTART;VALUE=DATE:20171103
DTEND;VALUE=DATE:20171104
DTSTAMP:20260423T193650
CREATED:20170608T191805Z
LAST-MODIFIED:20170831T194252Z
UID:234-1509667200-1509753599@productions.peacefulschools.com
SUMMARY:Bucket Play Performance
DESCRIPTION:FRIDAY NOVEMBER 3 – Buffalo School #6 (Buffalo\, NY)
URL:https://productions.peacefulschools.com/event/bucket-play-performance-8/
LOCATION:Buffalo Elementary School of Technology #6\, 4414 S Division St\, Buffalo\, NY\, 14204\, United States
CATEGORIES:Bucket Play
ATTACH;FMTTYPE=image/jpeg:https://productions.peacefulschools.com/wp-content/uploads/2017/05/Internal1Col_3Row3.jpg
END:VEVENT
BEGIN:VEVENT
DTSTART;VALUE=DATE:20171020
DTEND;VALUE=DATE:20171021
DTSTAMP:20260423T193650
CREATED:20170608T191559Z
LAST-MODIFIED:20170608T191843Z
UID:231-1508457600-1508543999@productions.peacefulschools.com
SUMMARY:Bucket Play Performance
DESCRIPTION:FRIDAY OCTOBER 20 – Fisher Elementary School (Mohawk\, NY)
URL:https://productions.peacefulschools.com/event/bucket-play-performance-7/
LOCATION:Harry M Fisher Elementary School\, 10 Fisher Ave\, Mohawk\, NY\, 13407\, United States
CATEGORIES:Bucket Play
ATTACH;FMTTYPE=image/jpeg:https://productions.peacefulschools.com/wp-content/uploads/2017/05/Internal1Col_3Row3.jpg
END:VEVENT
BEGIN:VEVENT
DTSTART;VALUE=DATE:20171012
DTEND;VALUE=DATE:20171013
DTSTAMP:20260423T193650
CREATED:20170726T153522Z
LAST-MODIFIED:20190319T152656Z
UID:325-1507766400-1507852799@productions.peacefulschools.com
SUMMARY:Rise Up! Performance
DESCRIPTION:
URL:https://productions.peacefulschools.com/event/rise-up-performance/
LOCATION:Webster Elementary School\, 500 Wadsworth St.\, Syracuse\, NY\, 13208\, United States
CATEGORIES:Rise Up!
END:VEVENT
BEGIN:VEVENT
DTSTART;VALUE=DATE:20171006
DTEND;VALUE=DATE:20171007
DTSTAMP:20260423T193650
CREATED:20170608T191227Z
LAST-MODIFIED:20170609T181905Z
UID:225-1507248000-1507334399@productions.peacefulschools.com
SUMMARY:Bucket Play Performance
DESCRIPTION:FRIDAY OCTOBER 6 – Fassett Elementary School (Elmira\, NY)
URL:https://productions.peacefulschools.com/event/bucket-play-performance-5/
LOCATION:Fassett Elementary School\, 309 W Thurston St\, Elmira\, NY\, 14901\, United States
CATEGORIES:Bucket Play
ATTACH;FMTTYPE=image/jpeg:https://productions.peacefulschools.com/wp-content/uploads/2017/05/Internal1Col_3Row3.jpg
END:VEVENT
BEGIN:VEVENT
DTSTART;VALUE=DATE:20171006
DTEND;VALUE=DATE:20171007
DTSTAMP:20260423T193650
CREATED:20170608T191420Z
LAST-MODIFIED:20170609T181851Z
UID:228-1507248000-1507334399@productions.peacefulschools.com
SUMMARY:Bucket Play Performance
DESCRIPTION:FRIDAY OCTOBER 6 – Diven Elementary School (Elmira\, NY)
URL:https://productions.peacefulschools.com/event/bucket-play-performance-6/
LOCATION:Diven Elementary School\, 1115 Hall St\, Elmira\, NY\, 14901\, United States
CATEGORIES:Bucket Play
ATTACH;FMTTYPE=image/jpeg:https://productions.peacefulschools.com/wp-content/uploads/2017/05/Internal1Col_3Row3.jpg
END:VEVENT
BEGIN:VEVENT
DTSTART;VALUE=DATE:20170929
DTEND;VALUE=DATE:20170930
DTSTAMP:20260423T193650
CREATED:20170608T190701Z
LAST-MODIFIED:20170609T181927Z
UID:218-1506643200-1506729599@productions.peacefulschools.com
SUMMARY:Bucket Play Performance
DESCRIPTION:FRIDAY SEPTEMBER 29 –  Riverside Elementary School (Elmira\, NY)
URL:https://productions.peacefulschools.com/event/bucket-play-performance-3/
LOCATION:Riverside Elementary School\, 409 Riverside Ave\, Elmira\, NY\, 14904\, United States
CATEGORIES:Bucket Play
ATTACH;FMTTYPE=image/jpeg:https://productions.peacefulschools.com/wp-content/uploads/2017/05/Internal1Col_3Row3.jpg
END:VEVENT
BEGIN:VEVENT
DTSTART;VALUE=DATE:20170929
DTEND;VALUE=DATE:20170930
DTSTAMP:20260423T193650
CREATED:20170608T191048Z
LAST-MODIFIED:20170609T181917Z
UID:222-1506643200-1506729599@productions.peacefulschools.com
SUMMARY:Bucket Play Performance
DESCRIPTION:FRIDAY SEPTEMBER 29 –  Pine City Elementary School (Pine City\, NY)
URL:https://productions.peacefulschools.com/event/bucket-play-performance-4/
LOCATION:Pine City School\, 1551 Pennsylvania Ave\, Pine City\, NY\, 14871\, United States
CATEGORIES:Bucket Play
ATTACH;FMTTYPE=image/jpeg:https://productions.peacefulschools.com/wp-content/uploads/2017/05/Internal1Col_3Row3.jpg
END:VEVENT
BEGIN:VEVENT
DTSTART;VALUE=DATE:20170922
DTEND;VALUE=DATE:20170923
DTSTAMP:20260423T193650
CREATED:20170608T190424Z
LAST-MODIFIED:20170608T190827Z
UID:216-1506038400-1506124799@productions.peacefulschools.com
SUMMARY:Bucket Play Performance
DESCRIPTION:FRIDAY SEPTEMBER 22 – Oxford Primary School (Oxford\, NY)
URL:https://productions.peacefulschools.com/event/bucket-play-performance-2/
LOCATION:Oxford Primary School\, 50 S Washington Ave\, Oxford\, NY\, 14519\, United States
CATEGORIES:Bucket Play
ATTACH;FMTTYPE=image/jpeg:https://productions.peacefulschools.com/wp-content/uploads/2017/05/Internal1Col_3Row3.jpg
END:VEVENT
BEGIN:VEVENT
DTSTART;VALUE=DATE:20170915
DTEND;VALUE=DATE:20170916
DTSTAMP:20260423T193650
CREATED:20170608T190335Z
LAST-MODIFIED:20170608T190335Z
UID:212-1505433600-1505519999@productions.peacefulschools.com
SUMMARY:Bucket Play Performance
DESCRIPTION:FRIDAY SEPTEMBER 15 – Ontario Performing Arts Center (Ontario Center\, NY)
URL:https://productions.peacefulschools.com/event/bucket-play-performance/
LOCATION:Ontario Performing Arts Center\, Ontario Center\, NY\, 14519\, United States
CATEGORIES:Bucket Play
ATTACH;FMTTYPE=image/jpeg:https://productions.peacefulschools.com/wp-content/uploads/2017/05/Internal1Col_3Row3.jpg
END:VEVENT
END:VCALENDAR